BEGIN:VCALENDAR
VERSION:2.0
PRODID:Spatie calendar-links
BEGIN:VEVENT
UID:https://www.probier-werkstatt.de/?post_type=mi-event-date&#038;p=2163
SUMMARY:Cunewalder Feuerwehr Blaskapelle
DTSTAMP:20260512T220000Z
DTSTART;VALUE=DATE:20260513
DURATION:P1D
DESCRIPTION:Mehr Informationen: https://www.probier-werkstatt.de/events/cunewalder-feuerwehr-blaskapelle/
LOCATION:Hauptstraße 76 Abzweig Zieglertal\, 02733 Cunewalde 
END:VEVENT
END:VCALENDAR